BEGIN:VCALENDAR
VERSION:2.0
PRODID:spatie/icalendar-generator
DESCRIPTION:Events from Phillipsburg Alliance Church
X-WR-CALDESC:Events from Phillipsburg Alliance Church
REFRESH-INTERVAL;VALUE=DURATION:PT1440M
X-PUBLISHED-TTL:PT1440M
BEGIN:VTIMEZONE
TZID:America/New_York
BEGIN:STANDARD
DTSTART:20251102T020000Z
TZOFFSETFROM:-0400
TZOFFSETTO:-0500
END:STANDARD
BEGIN:DAYLIGHT
DTSTART:20260308T020000Z
TZOFFSETFROM:-0500
TZOFFSETTO:-0400
END:DAYLIGHT
END:VTIMEZONE
BEGIN:VTIMEZONE
TZID:UTC
BEGIN:STANDARD
DTSTART:20250729T003735Z
TZOFFSETFROM:+0000
TZOFFSETTO:+0000
END:STANDARD
END:VTIMEZONE
BEGIN:VEVENT
UID:2603-89
DTSTAMP:20260425T003735Z
SUMMARY:Easter Egg Hunt - Hosted by Evolve Youth Group
LOCATION:The Crossbar 285 Grant Street   Phillipsburg New Jersey 08865
ORGANIZER;CN=PAC Webmaster:MAILTO:jai@brinkofski.com
DTSTART;TZID=America/New_York:20260402T183000
DTEND;TZID=America/New_York:20260402T203000
X-ALT-DESC;FMTTYPE=TEXT/HTML:Get ready... set... hunt!!  The Youth Group i
 s hosting an Easter Egg Hunt on Thursday\, April 2nd at 6:30pm at the Cros
 sbar. Bring all the family for a fun time! Children ages toddler through 1
 2th grade are eligible to participate.
CATEGORIES:Ministry,  Youth Ministry
URL;VALUE=URI:https://phillipsburgalliance.org/mc-events/easter-egg-hunt-ho
 sted-by-evolve-youth-group/
METHOD:PUBLISH
END:VEVENT
END:VCALENDAR