BEGIN:VCALENDAR
VERSION:2.0
PRODID:spatie/icalendar-generator
DESCRIPTION:Events from Phillipsburg Alliance Church
X-WR-CALDESC:Events from Phillipsburg Alliance Church
REFRESH-INTERVAL;VALUE=DURATION:PT1440M
X-PUBLISHED-TTL:PT1440M
BEGIN:VTIMEZONE
TZID:America/New_York
BEGIN:STANDARD
DTSTART:20251102T020000Z
TZOFFSETFROM:-0400
TZOFFSETTO:-0500
END:STANDARD
BEGIN:DAYLIGHT
DTSTART:20260308T020000Z
TZOFFSETFROM:-0500
TZOFFSETTO:-0400
END:DAYLIGHT
END:VTIMEZONE
BEGIN:VTIMEZONE
TZID:UTC
BEGIN:STANDARD
DTSTART:20250724T054010Z
TZOFFSETFROM:+0000
TZOFFSETTO:+0000
END:STANDARD
END:VTIMEZONE
BEGIN:VEVENT
UID:18820-76
DTSTAMP:20260420T054010Z
SUMMARY:Joshua Live at Sight &amp;amp\; Sound
LOCATION:Sight &amp;amp\; Sound Theater 300 Hartman Bridge Rd  Ronks PA 17572
ORGANIZER;CN=PAC Webmaster:MAILTO:jai@brinkofski.com
DTSTART;TZID=America/New_York:20260425T070000
DTEND;TZID=America/New_York:20260425T180000
X-ALT-DESC;FMTTYPE=TEXT/HTML:Adult Cost: $155.35 Child: $94.00 (12 years &amp;a
 mp\; under) Sign up on Church Bulletin Board by March 8. Money due in to o
 ur church by April 12. Cost includes: Bus ride to Sight &amp;amp\; Sound Theat
 re\, Lancaster PA Lunch at Bird-in-Hand Restaurant Joshua ticket Tip for t
 he bus driver Itinerary 7:00 am - arrive at&amp;hellip\;
CATEGORIES:Community,  Men\'s Ministry,  Women\'s Ministry,  Youth Ministry
URL;VALUE=URI:https://phillipsburgalliance.org/mc-events/joshua-live-at-sig
 ht-sound/
METHOD:PUBLISH
END:VEVENT
END:VCALENDAR