BEGIN:VCALENDAR
VERSION:2.0
PRODID:spatie/icalendar-generator
DESCRIPTION:Events from Phillipsburg Alliance Church
X-WR-CALDESC:Events from Phillipsburg Alliance Church
REFRESH-INTERVAL;VALUE=DURATION:PT1440M
X-PUBLISHED-TTL:PT1440M
BEGIN:VTIMEZONE
TZID:America/New_York
BEGIN:STANDARD
DTSTART:20251102T020000Z
TZOFFSETFROM:-0400
TZOFFSETTO:-0500
END:STANDARD
BEGIN:DAYLIGHT
DTSTART:20260308T020000Z
TZOFFSETFROM:-0500
TZOFFSETTO:-0400
END:DAYLIGHT
END:VTIMEZONE
BEGIN:VTIMEZONE
TZID:UTC
BEGIN:STANDARD
DTSTART:20250723T125242Z
TZOFFSETFROM:+0000
TZOFFSETTO:+0000
END:STANDARD
END:VTIMEZONE
BEGIN:VEVENT
UID:12319-43
DTSTAMP:20260419T125242Z
SUMMARY:Brotherhood Men's Group
LOCATION:The Crossbar 285 Grant Street   Phillipsburg New Jersey 08865
ORGANIZER;CN=PAC Webmaster:MAILTO:jai@brinkofski.com
RRULE:FREQ=MONTHLY;BYDAY=-1SA;UNTIL=20361227T000000Z
DTSTART;TZID=America/New_York:20260425T093000
DTEND;TZID=America/New_York:20260425T103000
X-ALT-DESC;FMTTYPE=TEXT/HTML:Food\, fellowship\, prayer and the hearing of 
 God’s Word. Males 13 years of age and up. Contact Pastor Enrique for mor
 e detailed information or questions.
CATEGORIES:Church Business
URL;VALUE=URI:https://phillipsburgalliance.org/mc-events/brotherhood-mens-g
 roup/?mc_id=12319
METHOD:PUBLISH
END:VEVENT
END:VCALENDAR